BEGIN:VCALENDAR
VERSION:2.0
PRODID:-//Out Front - ECPv6.15.20//NONSGML v1.0//EN
CALSCALE:GREGORIAN
METHOD:PUBLISH
X-WR-CALNAME:Out Front
X-ORIGINAL-URL:https://outfront.biz
X-WR-CALDESC:Events for Out Front
REFRESH-INTERVAL;VALUE=DURATION:PT1H
X-Robots-Tag:noindex
X-PUBLISHED-TTL:PT1H
BEGIN:VTIMEZONE
TZID:America/Los_Angeles
BEGIN:DAYLIGHT
TZOFFSETFROM:-0800
TZOFFSETTO:-0700
TZNAME:PDT
DTSTART:20210314T100000
END:DAYLIGHT
BEGIN:STANDARD
TZOFFSETFROM:-0700
TZOFFSETTO:-0800
TZNAME:PST
DTSTART:20211107T090000
END:STANDARD
BEGIN:DAYLIGHT
TZOFFSETFROM:-0800
TZOFFSETTO:-0700
TZNAME:PDT
DTSTART:20220313T100000
END:DAYLIGHT
BEGIN:STANDARD
TZOFFSETFROM:-0700
TZOFFSETTO:-0800
TZNAME:PST
DTSTART:20221106T090000
END:STANDARD
BEGIN:DAYLIGHT
TZOFFSETFROM:-0800
TZOFFSETTO:-0700
TZNAME:PDT
DTSTART:20230312T100000
END:DAYLIGHT
BEGIN:STANDARD
TZOFFSETFROM:-0700
TZOFFSETTO:-0800
TZNAME:PST
DTSTART:20231105T090000
END:STANDARD
END:VTIMEZONE
BEGIN:VEVENT
DTSTART;VALUE=DATE:20220914
DTEND;VALUE=DATE:20220915
DTSTAMP:20260421T225540
CREATED:20220803T171924Z
LAST-MODIFIED:20220803T171924Z
UID:3246-1663113600-1663199999@outfront.biz
SUMMARY:Keynote to Union Workers
DESCRIPTION:Thanks for Bleiweiss Communications\, Deborah and David will deliver a keynote to union workers and leaders in the grocery industry. Focusing on how to read and respond to any audience\, this keynote will take place at the Wild Horse Pass Resort in Chandler\, Arizona
URL:https://outfront.biz/event/keynote-to-union-workers/
END:VEVENT
BEGIN:VEVENT
DTSTART;TZID=America/Los_Angeles:20220920T100000
DTEND;TZID=America/Los_Angeles:20220920T150000
DTSTAMP:20260421T225540
CREATED:20220803T172118Z
LAST-MODIFIED:20220803T172118Z
UID:3248-1663668000-1663686000@outfront.biz
SUMMARY:Biz Dev Workshop
DESCRIPTION:Deborah and David deliver their workshop at the offices of Northern Trust in Dallas from 10 – 3:00 pm with a complimentary lunch served at noon. The exact date has not been selected\, but it will be one day the week of September 19th. \nThe workshop focuses on the foundational skills everyone needs to communicate most effectively: storytelling\, identifying your unique differentiators and how to open any presentation\, or devise a compelling elevator speech. We will also take requests\, and offer tips on overcoming anxiety\, movement\, and gestures. \nHere’s what participants had to say: \n“A big THANK YOU for a very effective and relatable workshop! You have an awesome product that connects our personality to what we do and that is (more often than not) a connection that we are challenged to find! It felt like a soul-searching time for me and I am very grateful for the opportunity.”\nAlbena Rachkova\nChief Administrative Officer\, Northern Trust \n“It was an absolute pleasure working with you\, David and the entire group. I left with tools to feel more empowered and confident as a spokesperson for Kids in the Spotlight.\nTige Charity\nExecutive Director\, Kids in the Spotlight \n“It was definitely the best workshop I have ever attended. I knew it would be because my friends could not stop talking about it and insisted that I attend.  I thought the techniques taught were very insightful and entertaining. I have no doubt that my introductions will be improved by 500%.”\nAnabella Q. Bonfa\nAttorney at Law \n“Thank you so much for such a wonderful session.  I learned so much and I can’t wait to put it into action next week at the Vistage Summit.”\nKatie Rucker\nCEO\, Operations at Mackenzie Corporation \n“You and David have equipped me with tips that will transfer in every facet of my personal and professional life. I truly believe this is only the beginning of something new for me. It was a life-changing experience.”\nKarla Fletcher\nBerbay Marketing and PR
URL:https://outfront.biz/event/biz-dev-workshop-6/
END:VEVENT
END:VCALENDAR