BEGIN:VCALENDAR
VERSION:2.0
PRODID:-//Out Front - ECPv6.15.20//NONSGML v1.0//EN
CALSCALE:GREGORIAN
METHOD:PUBLISH
X-WR-CALNAME:Out Front
X-ORIGINAL-URL:https://outfront.biz
X-WR-CALDESC:Events for Out Front
REFRESH-INTERVAL;VALUE=DURATION:PT1H
X-Robots-Tag:noindex
X-PUBLISHED-TTL:PT1H
BEGIN:VTIMEZONE
TZID:America/Los_Angeles
BEGIN:DAYLIGHT
TZOFFSETFROM:-0800
TZOFFSETTO:-0700
TZNAME:PDT
DTSTART:20150308T100000
END:DAYLIGHT
BEGIN:STANDARD
TZOFFSETFROM:-0700
TZOFFSETTO:-0800
TZNAME:PST
DTSTART:20151101T090000
END:STANDARD
BEGIN:DAYLIGHT
TZOFFSETFROM:-0800
TZOFFSETTO:-0700
TZNAME:PDT
DTSTART:20160313T100000
END:DAYLIGHT
BEGIN:STANDARD
TZOFFSETFROM:-0700
TZOFFSETTO:-0800
TZNAME:PST
DTSTART:20161106T090000
END:STANDARD
BEGIN:DAYLIGHT
TZOFFSETFROM:-0800
TZOFFSETTO:-0700
TZNAME:PDT
DTSTART:20170312T100000
END:DAYLIGHT
BEGIN:STANDARD
TZOFFSETFROM:-0700
TZOFFSETTO:-0800
TZNAME:PST
DTSTART:20171105T090000
END:STANDARD
END:VTIMEZONE
BEGIN:VEVENT
DTSTART;TZID=America/Los_Angeles:20161206T190000
DTEND;TZID=America/Los_Angeles:20161206T200000
DTSTAMP:20260419T233745
CREATED:20161204T232728Z
LAST-MODIFIED:20161205T020058Z
UID:1032-1481050800-1481054400@outfront.biz
SUMMARY:Keynote in San Diego
DESCRIPTION:Deborah addresses a select group of OneAmerica clients on women empowerment at the University Club in San Diego\, CA. \n  \nPRIVATE EVENT
URL:https://outfront.biz/event/keynote-address/
END:VEVENT
BEGIN:VEVENT
DTSTART;TZID=America/Los_Angeles:20161206T150000
DTEND;TZID=America/Los_Angeles:20161206T163000
DTSTAMP:20260419T233745
CREATED:20161205T001253Z
LAST-MODIFIED:20161205T001401Z
UID:1049-1481036400-1481041800@outfront.biz
SUMMARY:Storytelling Keynote to Windes
DESCRIPTION:On December 6th\, Deborah delivers an interactive keynote on storytelling at the CPA firm of Windes’  annual event. Her keynote is followed by an Eloqui exercise on how to identify your unique differentiators. The benefit of identifying what sets you apart is how these characteristics\, or qualities benefit your clients or make you good at what you do.
URL:https://outfront.biz/event/storytelling-keynote-to-windes/
END:VEVENT
BEGIN:VEVENT
DTSTART;TZID=America/Los_Angeles:20161206T120000
DTEND;TZID=America/Los_Angeles:20161206T130000
DTSTAMP:20260419T233745
CREATED:20161204T232728Z
LAST-MODIFIED:20161205T020132Z
UID:1033-1481025600-1481029200@outfront.biz
SUMMARY:Book Signing and Keynote in Newport Beach
DESCRIPTION:Deborah delivers the keynote address on business generation for Mitch Haber’s colleagues at OneAmerica and their clients. \nFairmont Hotel\, Newport Beach\, CA \n\n\n\nPRIVATE EVENT
URL:https://outfront.biz/event/book-signing-and-keynote/
END:VEVENT
BEGIN:VEVENT
DTSTART;TZID=America/Los_Angeles:20161202T000000
DTEND;TZID=America/Los_Angeles:20161202T000000
DTSTAMP:20260419T233745
CREATED:20161204T232728Z
LAST-MODIFIED:20161204T232728Z
UID:1031-1480636800-1480636800@outfront.biz
SUMMARY:Business Development Workshop
DESCRIPTION:Eloqui trainers conduct our popular business development workshop at the Mackenzie Corporation\, 10 Mauchly\, Irvine\, CA 92618 (A complimentary lunch is provided.) \nThe workshop focuses on storytelling\, identifying your unique differentiators and how to open any presentation\, or devise a compelling elevator speech. \nWe limit attendance to no more than 8 professionals. The fee of $500 enables attendees to contact us after the workshop (via phone or email) for no additional charge. \nThis workshop is now full.
URL:https://outfront.biz/event/business-development-workshop/
END:VEVENT
BEGIN:VEVENT
DTSTART;TZID=America/Los_Angeles:20161201T170000
DTEND;TZID=America/Los_Angeles:20161201T190000
DTSTAMP:20260419T233745
CREATED:20161204T232728Z
LAST-MODIFIED:20161204T232728Z
UID:1030-1480611600-1480618800@outfront.biz
SUMMARY:Book Signing Event
DESCRIPTION:This is your chance to meet Deborah and get an advanced copy of her book Out Front\, How Women Can Become Engaging\, Memorable\, and Fearless Speakers.\nDeborah signs copies at the Center Club Thursday from 5-7:00 p.m. in Costa Mesa at 650 Town Center\, Costa Mesa\, CA. The event is sponsored by Hirson Immigration\, Sagacity\, and Lotte Advanced Materials. \nDeborah addresses what holds women back\, why she wrote the book\, and her personal journey. In her book\, Out Front\, Deborah guides you through the skills to communicate effectively and present with confidence\, precision\, and purpose.
URL:https://outfront.biz/event/book-signing-event/
END:VEVENT
END:VCALENDAR