BEGIN:VCALENDAR
VERSION:2.0
PRODID:-//Out Front - ECPv6.15.20//NONSGML v1.0//EN
CALSCALE:GREGORIAN
METHOD:PUBLISH
X-WR-CALNAME:Out Front
X-ORIGINAL-URL:https://outfront.biz
X-WR-CALDESC:Events for Out Front
REFRESH-INTERVAL;VALUE=DURATION:PT1H
X-Robots-Tag:noindex
X-PUBLISHED-TTL:PT1H
BEGIN:VTIMEZONE
TZID:America/Chicago
BEGIN:DAYLIGHT
TZOFFSETFROM:-0600
TZOFFSETTO:-0500
TZNAME:CDT
DTSTART:20220313T080000
END:DAYLIGHT
BEGIN:STANDARD
TZOFFSETFROM:-0500
TZOFFSETTO:-0600
TZNAME:CST
DTSTART:20221106T070000
END:STANDARD
BEGIN:DAYLIGHT
TZOFFSETFROM:-0600
TZOFFSETTO:-0500
TZNAME:CDT
DTSTART:20230312T080000
END:DAYLIGHT
BEGIN:STANDARD
TZOFFSETFROM:-0500
TZOFFSETTO:-0600
TZNAME:CST
DTSTART:20231105T070000
END:STANDARD
BEGIN:DAYLIGHT
TZOFFSETFROM:-0600
TZOFFSETTO:-0500
TZNAME:CDT
DTSTART:20240310T080000
END:DAYLIGHT
BEGIN:STANDARD
TZOFFSETFROM:-0500
TZOFFSETTO:-0600
TZNAME:CST
DTSTART:20241103T070000
END:STANDARD
END:VTIMEZONE
BEGIN:VEVENT
DTSTART;TZID=America/Chicago:20231114T090000
DTEND;TZID=America/Chicago:20231114T160000
DTSTAMP:20260421T013902
CREATED:20240312T001703Z
LAST-MODIFIED:20240312T001703Z
UID:3855-1699952400-1699977600@outfront.biz
SUMMARY:Communication Immersion Workshop
DESCRIPTION:Deborah and David returns to trains more professionals of CDK at their headquarters in Hoffman Estates\, Illinois. This 2-day\, interactive training includes how to structure and deliver content\, succeed in pitch sessions\, and communicate their unique message. Following is the agenda. \nDay #1: Presentation Skills \n\nAchieve your Objective (Accomplish what you want)\nA gauge for your success\nThe latest findings from Cognitive Neuroscience\nStructure your Content\nHow to open and close\nTemplate to organize your thinking\nChoosing the best Role\nA filter for delivering your content\nHow to reduce anxiety and engineer how others see you\nThe Art of Narration\nTemplate to construct and tell compelling client anecdotes\nHomework Assignment\nConstruct a 3-5:00 minute make-or-break presentation\n\nDay #2: Sales Skills \n\nDeliver your Presentation\nEveryone must present their presentation to the assembled group and receive feedback\nRead Your Audience (ECI: Eloqui Communication Index)\nTailor your presentation to the four communication style\nVirtual vs In-Person Presentations\n Critical differences including visual framing\, audio and PowerPoint\nEngineer Perception\nWhat do you telegraph? (voice\, dress\, body language/ gestures)\nPhysical movement\, gestures and use of space\nBringing it all Together\nRehearsal Techniques\nWhat to do going forward
URL:https://outfront.biz/event/communication-immersion-workshop-12/
END:VEVENT
END:VCALENDAR