BEGIN:VCALENDAR
VERSION:2.0
PRODID:-//Out Front - ECPv6.15.20//NONSGML v1.0//EN
CALSCALE:GREGORIAN
METHOD:PUBLISH
X-WR-CALNAME:Out Front
X-ORIGINAL-URL:https://outfront.biz
X-WR-CALDESC:Events for Out Front
REFRESH-INTERVAL;VALUE=DURATION:PT1H
X-Robots-Tag:noindex
X-PUBLISHED-TTL:PT1H
BEGIN:VTIMEZONE
TZID:America/Los_Angeles
BEGIN:DAYLIGHT
TZOFFSETFROM:-0800
TZOFFSETTO:-0700
TZNAME:PDT
DTSTART:20210314T100000
END:DAYLIGHT
BEGIN:STANDARD
TZOFFSETFROM:-0700
TZOFFSETTO:-0800
TZNAME:PST
DTSTART:20211107T090000
END:STANDARD
BEGIN:DAYLIGHT
TZOFFSETFROM:-0800
TZOFFSETTO:-0700
TZNAME:PDT
DTSTART:20220313T100000
END:DAYLIGHT
BEGIN:STANDARD
TZOFFSETFROM:-0700
TZOFFSETTO:-0800
TZNAME:PST
DTSTART:20221106T090000
END:STANDARD
BEGIN:DAYLIGHT
TZOFFSETFROM:-0800
TZOFFSETTO:-0700
TZNAME:PDT
DTSTART:20230312T100000
END:DAYLIGHT
BEGIN:STANDARD
TZOFFSETFROM:-0700
TZOFFSETTO:-0800
TZNAME:PST
DTSTART:20231105T090000
END:STANDARD
END:VTIMEZONE
BEGIN:VEVENT
DTSTART;VALUE=DATE:20221107
DTEND;VALUE=DATE:20221109
DTSTAMP:20260421T212301
CREATED:20220803T171716Z
LAST-MODIFIED:20220803T171716Z
UID:3243-1667779200-1667951999@outfront.biz
SUMMARY:Communication Immersion Workshop
DESCRIPTION:Whether you pitch for business\, raise money for your favorite non-profit\, or want to be seen as a thought leader on the global stage\, this Eloqui workshop provides the necessary tools. \nOver two days\, a select group of seasoned professionals come together to learn new skills and find their voice. With a maximum of 8 attendees\, everyone is up-on-their-feet multiple times\, with the opportunity to hear from their peers\, as well as the trainers\, and make adjustments to ensure success. \nOur next workshop will be held at the La Fonda hotel in Santa Fe\, New Mexico from 9-4:00 pm. We limit attendance to 8 for maximized personal attention. The workshop fee (including all meals and materials) is $3\,000. Plus\, we’ve negotiated an Eloqui nightly room rate of only $159 when their rates this time of year are usually $350. \nYour fee includes a specially prepared dinner on November 7th. Local chef\, Johnny Vee creates a memorable experience\, whipping up a delicious 4-course meal. Have a glass of champagne\, wine and appetizer\, learn about New Mexico cuisine\, watch the sunset and relax. \n\nThe first day of the workshop is focused on creating a make-or-break presentation\, incorporating the critical elements of structure and delivery…  \nThe second day is all about communication skills\, rehearsal techniques and impression management: what you project\, and how to engineer the perception you want. The agenda also covers how to read and respond to any audience\, and advanced techniques from the professional’s playbook to becoming an engaging speaker.  \nHere’s what past ‘graduates’ had to say: \nWords cannot describe my gratitude to you both. You are the 8th wonders of the world. And I am beyond grateful to have experienced your supernatural gifts. Than you from the bottom of my heart for your sincerity and guidance.\nDr. Tina Shenouda\nM.D.\, M.B.A. \nThe Eloqui Communications training gave me hands-on tools and lots of practice and feedback. Deborah and David’s seasoned expertise\, memorable advice\, and the interactive quality of the workshop was truly transformational\, inspirational and fun. I’m eager to use what I learned right away to connect and engage with a variety of audiences and situations.\nEllen Taaffe ‘97\nDirector of Women’s Leadership Programming\nKellogg School of Management at Northwestern University \nThe Eloqui workshop was the most impactful professional development activity I’ve experienced in my fifteen years as a lawyer. I’m not prone to hyperbole\, but I genuinely believe it will be a turning point in my law practice as it relates to public speaking and communication. I strongly recommend Eloqui to any professional who wants to take his or her public speaking and communication skills not just to the next level\, but into the stratosphere.\nBrian Moskal\nEnvironmental Attorney\, Partner at Greenberg Glusker \nThanks again for an amazing workshop!  The entire experience was exhilarating\, supportive\, warm\, fun (a little scary) and highly productive.  The tools are fantastic but the energy you two brought to the workshop was where the real magic happened. I couldn’t have done it with anyone else. \nRebecca Jennings\n President and CEO of Hips and Curves and Vistage member \nTen of my law firm’s attorneys and staff have attended Eloqui’s Immersion Training and Workshops\, and each has come back excited from what they had learned. They implement and use Eloqui’s innovative training and skills in order to better meet and communicate with clients from around the world in addition to lecturing and presenting at international conferences and symposiums. As an attorney\, I benefit from Eloqui’s training every day. I’ve been able to better understand and adjust my communication skills with clients and colleagues so that my daily business runs more smoothly.\nDavid Hirson\, Partner\nDavid Hirson & Partners\, LLP \nBest presentation training I have ever received.\nMike Grimme\nRetirement Sales Director\, Pacific Northwest of OneAmerica \nThank you so much for a GREAT 2 days! I have never been so entertained\, had so much fun and learned so much at any training. While I normally struggle to keep my eyes open after lunch\, your program kept me constantly engaged. Because of your training\, I will never again look at speaking or other speakers the same way!\nLeigh Harris\nADP Dealer Services
URL:https://outfront.biz/event/communication-immersion-workshop-9/
END:VEVENT
END:VCALENDAR